BEGIN:VCALENDAR
VERSION:2.0
PRODID:-//wp-events-plugin.com//7.2.3.1//EN
TZID:Europe/Brussels
X-WR-TIMEZONE:Europe/Brussels
BEGIN:VEVENT
UID:222@vertlaforme.be
DTSTART;TZID=Europe/Brussels;VALUE=DATE:20231013
DTEND;TZID=Europe/Brussels;VALUE=DATE:20231016
DTSTAMP:20231018T055851Z
URL:https://vertlaforme.be/events/1186/
SUMMARY:WE d'automne à Berck sur mer
DESCRIPTION:Week-end à la Côte d’Opale\nDu vendredi 13 octobre au diman
 che 15 octobre 2023\nBERCK sur MER\nHôtel LE NEPTUNE\nhttps://hotelneptun
 eberck.com/\n\nL’hôtel est situé en bordure de plage\nNous vous propos
 ons 2 jours en demi-pension\, incluant le pique-nique* du samedi et ¼ de 
 vin aux repas. *dont 1 sandwich jambon beurre ou pâté (choix individuel 
 à définir avant à la réservation.\nPROGRAMME du WEEK-END :\n\n\n 	Le s
 amedi : journée de balade en groupe autour du parc du Marquenterre et le 
 long de la plage (16km)\n 	Le dimanche matin : visite guidée du parc du M
 ARQUENTERRE\nExcursion découverte de la Réserve Naturelle de la Baie de 
 Somme. Randonnée au fil des paysages\, de la flore estuarienne et des ani
 maux sauvages. Une sensation « bout du monde » pour cette immersion en p
 lein coeur de la baie.\n\nPrix : (comprenant l’entrée du site et la pre
 station du guide) *Moins de 25 personnes : forfait unique de 260€ *à pa
 rtir de 25 personnes : 10.40 €/adulte - Durée 3h\n+ Repas facultatif au
  restaurant du Marquenterre (prix démocratiques)\nCette activité est fac
 ultative. Le prix vous sera communiqué après les inscriptions et ne sera
  organisée que s’il y a au moins 10 inscrits.\nD’autres balades vous 
 seront proposées\, dont la Baie d’Authie (12km)\nCôté tourisme : la v
 isite du Touquet et de Montreuil sur mer font partie des incontournables.\
 nNous pourrons également observer les phoques depuis le port de plaisance
  de Berck.\nN’oubliez pas vos jumelles !\n\nLE PRIX : 160€ par personn
 e en chambre double\n240€ par personne en chambre single\n\nA l’inscri
 ption\, par mail\, veuillez préciser\n1) Le choix du sandwiche (jambon ou
  pâté)\n2) Votre inscription éventuelle à la visite guidée du dimanch
 e (le montant vous sera communiqué à la fin des inscriptions et sera à 
 payer en liquide sur place)\n\nPAIEMENT d’un ACOMPTE de 50%\, à la rés
 ervation (au plus tard le 15/9/23)\nSOLDE à payer pour le 1er octobre\nSu
 r le compte de VERT la FORME : BE05 6528 4280 3275\n\n\n\nDécouvrez notre
  Séjour à Berck - Marquenterre avec VertLaForme sur Relive!
CATEGORIES:Weekends - Séjours
END:VEVENT
BEGIN:VTIMEZONE
TZID:Europe/Brussels
X-LIC-LOCATION:Europe/Brussels
BEGIN:DAYLIGHT
DTSTART:20230326T030000
TZOFFSETFROM:+0100
TZOFFSETTO:+0200
TZNAME:CEST
END:DAYLIGHT
END:VTIMEZONE
END:VCALENDAR