BEGIN:VCALENDAR
VERSION:2.0
PRODID:-//wp-events-plugin.com//7.2.3.1//EN
TZID:Europe/Brussels
X-WR-TIMEZONE:Europe/Brussels
BEGIN:VEVENT
UID:1122@vertlaforme.be
DTSTART;TZID=Europe/Brussels:20250904T180000
DTEND;TZID=Europe/Brussels:20250904T183000
DTSTAMP:20250902T162026Z
URL:https://vertlaforme.be/events/balade-des-lucioles-borgloon/
SUMMARY:Marche des Lucioles : Borgloon
DESCRIPTION:Lucioles :\nDistance : +/- 9.5 km\, .\npromenade facile D+200m\
 nGuide :Riquier.MATHIEU (0471.581.667)\n\nLucioles Douces:\nDistance : +/-
  6.5km\, .\npromenade facile D+175m\n\nGuide : Murielle Dupont (0484 188 1
 58)
CATEGORIES:Marche facile à modérée,Marches
END:VEVENT
BEGIN:VTIMEZONE
TZID:Europe/Brussels
X-LIC-LOCATION:Europe/Brussels
BEGIN:DAYLIGHT
DTSTART:20250330T030000
TZOFFSETFROM:+0100
TZOFFSETTO:+0200
TZNAME:CEST
END:DAYLIGHT
END:VTIMEZONE
END:VCALENDAR