BEGIN:VCALENDAR
VERSION:2.0
PRODID:-//wp-events-plugin.com//7.2.3.1//EN
TZID:Europe/Brussels
X-WR-TIMEZONE:Europe/Brussels
BEGIN:VEVENT
UID:368@vertlaforme.be
DTSTART;TZID=Europe/Brussels:20240114T100000
DTEND;TZID=Europe/Brussels:20240114T103000
DTSTAMP:20240108T122732Z
URL:https://vertlaforme.be/events/balade-douce-dimanche-matin-seraing/
SUMMARY:Balade douce dimanche matin : Seraing
DESCRIPTION:
CATEGORIES:Marche douce,Marches
END:VEVENT
BEGIN:VTIMEZONE
TZID:Europe/Brussels
X-LIC-LOCATION:Europe/Brussels
BEGIN:STANDARD
DTSTART:20231029T020000
TZOFFSETFROM:+0200
TZOFFSETTO:+0100
TZNAME:CET
END:STANDARD
END:VTIMEZONE
END:VCALENDAR