BEGIN:VCALENDAR
VERSION:2.0
PRODID:-//wp-events-plugin.com//7.2.3.1//EN
TZID:Europe/Brussels
X-WR-TIMEZONE:Europe/Brussels
BEGIN:VEVENT
UID:282@vertlaforme.be
DTSTART;TZID=Europe/Brussels:20231028T140000
DTEND;TZID=Europe/Brussels:20231028T143000
DTSTAMP:20231023T144857Z
URL:https://vertlaforme.be/events/balade-encadree-de-lucienne-dubois-oupey
 e/
SUMMARY:Balade encadrée de Lucienne Dubois : Oupeye
DESCRIPTION:Coût : 5€
CATEGORIES:Marche encadrée,Marches
END:VEVENT
BEGIN:VTIMEZONE
TZID:Europe/Brussels
X-LIC-LOCATION:Europe/Brussels
BEGIN:DAYLIGHT
DTSTART:20230326T030000
TZOFFSETFROM:+0100
TZOFFSETTO:+0200
TZNAME:CEST
END:DAYLIGHT
END:VTIMEZONE
END:VCALENDAR