BEGIN:VCALENDAR
VERSION:2.0
PRODID:-//wp-events-plugin.com//7.2.3.1//EN
TZID:Europe/Brussels
X-WR-TIMEZONE:Europe/Brussels
BEGIN:VEVENT
UID:419@vertlaforme.be
DTSTART;TZID=Europe/Brussels:20240217T100000
DTEND;TZID=Europe/Brussels:20240217T103000
DTSTAMP:20240215T174245Z
URL:https://vertlaforme.be/events/balade-encadree-de-philippe-boulanger-ti
 hange/
SUMMARY:Balade encadrée de Philippe Boulanger : Tihange
DESCRIPTION:Attention : le chemin du Chera est fermé à cause de travaux d
 e longue\ndurée ainsi que la rue Bonne espérance. Itinéraire conseillé
  : prendre\nla rue des Malles Terres et continuer dans la rue Poyoux Sarts
 .\nDescription : marche encadrée sur une distance d’environ 6km. Une\nm
 ontée\, un peu de technique\, du cardio et de la bonne humeur.
CATEGORIES:Marche encadrée
END:VEVENT
BEGIN:VTIMEZONE
TZID:Europe/Brussels
X-LIC-LOCATION:Europe/Brussels
BEGIN:STANDARD
DTSTART:20231029T020000
TZOFFSETFROM:+0200
TZOFFSETTO:+0100
TZNAME:CET
END:STANDARD
END:VTIMEZONE
END:VCALENDAR