BEGIN:VCALENDAR
VERSION:2.0
PRODID:-//wp-events-plugin.com//7.2.3.1//EN
TZID:Europe/Brussels
X-WR-TIMEZONE:Europe/Brussels
BEGIN:VEVENT
UID:441@vertlaforme.be
DTSTART;TZID=Europe/Brussels:20240302T100000
DTEND;TZID=Europe/Brussels:20240302T103000
DTSTAMP:20240301T103603Z
URL:https://vertlaforme.be/events/balade-encadree-du-samedi-2-3/
SUMMARY:Balade encadrée du samedi 2/3
DESCRIPTION:Description : 7.5km avec surtout insistance sur efforts cardio 
 en plus de rappels techniques. Itinéraire vallonné mais accessible à to
 us.\nComme ce sera la dernière avant mai\, la séance sera suivie d'une v
 isite à la brasserie (verre et/ou repas). merci de confirmer pour repas.\
 nMoniteur :Philippe Boulanger (0475 750 891)
CATEGORIES:Marche encadrée
END:VEVENT
BEGIN:VTIMEZONE
TZID:Europe/Brussels
X-LIC-LOCATION:Europe/Brussels
BEGIN:STANDARD
DTSTART:20231029T020000
TZOFFSETFROM:+0200
TZOFFSETTO:+0100
TZNAME:CET
END:STANDARD
END:VTIMEZONE
END:VCALENDAR