BEGIN:VCALENDAR
VERSION:2.0
PRODID:-//wp-events-plugin.com//7.2.3.1//EN
TZID:Europe/Brussels
X-WR-TIMEZONE:Europe/Brussels
BEGIN:VEVENT
UID:817@vertlaforme.be
DTSTART;TZID=Europe/Brussels:20250913T140000
DTEND;TZID=Europe/Brussels:20250913T160000
DTSTAMP:20250909T085400Z
URL:https://vertlaforme.be/events/bbq-automne/
SUMMARY:BBQ Automne
DESCRIPTION:Activité complète.
CATEGORIES:Weekends - Séjours
END:VEVENT
BEGIN:VTIMEZONE
TZID:Europe/Brussels
X-LIC-LOCATION:Europe/Brussels
BEGIN:DAYLIGHT
DTSTART:20250330T030000
TZOFFSETFROM:+0100
TZOFFSETTO:+0200
TZNAME:CEST
END:DAYLIGHT
END:VTIMEZONE
END:VCALENDAR