BEGIN:VCALENDAR
VERSION:2.0
PRODID:-//wp-events-plugin.com//7.2.3.1//EN
TZID:Europe/Brussels
X-WR-TIMEZONE:Europe/Brussels
BEGIN:VEVENT
UID:55@vertlaforme.be
DTSTART;TZID=Europe/Brussels:20230404T093000
DTEND;TZID=Europe/Brussels:20230404T093000
DTSTAMP:20230424T132045Z
URL:https://vertlaforme.be/events/chanxhe-balade-autour-du-canal/
SUMMARY:Chanxhe : Balade autour du canal
DESCRIPTION:
CATEGORIES:Marche moyenne,Marches
END:VEVENT
BEGIN:VTIMEZONE
TZID:Europe/Brussels
X-LIC-LOCATION:Europe/Brussels
BEGIN:DAYLIGHT
DTSTART:20230326T030000
TZOFFSETFROM:+0100
TZOFFSETTO:+0200
TZNAME:CEST
END:DAYLIGHT
END:VTIMEZONE
END:VCALENDAR