BEGIN:VCALENDAR
VERSION:2.0
PRODID:-//wp-events-plugin.com//7.2.3.1//EN
TZID:Europe/Brussels
X-WR-TIMEZONE:Europe/Brussels
BEGIN:VEVENT
UID:65@vertlaforme.be
DTSTART;TZID=Europe/Brussels:20230323T180000
DTEND;TZID=Europe/Brussels:20230323T180000
DTSTAMP:20230412T152523Z
URL:https://vertlaforme.be/events/corswarem-berloz-la-kulterkene/
SUMMARY:Corswarem (Berloz) : La Kulterkene
DESCRIPTION:gilets fluos+lampes
CATEGORIES:Lucioles,Marches
END:VEVENT
BEGIN:VTIMEZONE
TZID:Europe/Brussels
X-LIC-LOCATION:Europe/Brussels
BEGIN:STANDARD
DTSTART:20221030T020000
TZOFFSETFROM:+0200
TZOFFSETTO:+0100
TZNAME:CET
END:STANDARD
END:VTIMEZONE
END:VCALENDAR