BEGIN:VCALENDAR
VERSION:2.0
PRODID:-//wp-events-plugin.com//7.2.3.1//EN
TZID:Europe/Brussels
X-WR-TIMEZONE:Europe/Brussels
BEGIN:VEVENT
UID:28@vertlaforme.be
DTSTART;TZID=Europe/Brussels:20230312T100000
DTEND;TZID=Europe/Brussels:20230312T100000
DTSTAMP:20230424T131949Z
URL:https://vertlaforme.be/events/esneux-amostrennes-chapelle-de-mondoffa-
 abri-champignon-2/
SUMMARY:Esneux - Amostrennes Chapelle de Mondoffa\, abri champignon
DESCRIPTION:
ATTACH;FMTTYPE=image/jpeg:https://vertlaforme.be/wp-content/uploads/amostr
 ennes.png
CATEGORIES:Marche moyenne,Marches
END:VEVENT
BEGIN:VTIMEZONE
TZID:Europe/Brussels
X-LIC-LOCATION:Europe/Brussels
BEGIN:STANDARD
DTSTART:20221030T020000
TZOFFSETFROM:+0200
TZOFFSETTO:+0100
TZNAME:CET
END:STANDARD
END:VTIMEZONE
END:VCALENDAR