BEGIN:VCALENDAR
VERSION:2.0
PRODID:-//wp-events-plugin.com//7.2.3.1//EN
TZID:Europe/Brussels
X-WR-TIMEZONE:Europe/Brussels
BEGIN:VEVENT
UID:19@vertlaforme.be
DTSTART;TZID=Europe/Brussels:20230304T140000
DTEND;TZID=Europe/Brussels:20230304T140000
DTSTAMP:20230412T164503Z
URL:https://vertlaforme.be/events/esneux-autour-de-ham/
SUMMARY:Esneux : Autour de Ham
DESCRIPTION:
CATEGORIES:Marche facile à modérée,Marches
END:VEVENT
BEGIN:VTIMEZONE
TZID:Europe/Brussels
X-LIC-LOCATION:Europe/Brussels
BEGIN:STANDARD
DTSTART:20221030T020000
TZOFFSETFROM:+0200
TZOFFSETTO:+0100
TZNAME:CET
END:STANDARD
END:VTIMEZONE
END:VCALENDAR