BEGIN:VCALENDAR
VERSION:2.0
PRODID:-//wp-events-plugin.com//7.2.3.1//EN
TZID:Europe/Brussels
X-WR-TIMEZONE:Europe/Brussels
BEGIN:VEVENT
UID:26@vertlaforme.be
DTSTART;TZID=Europe/Brussels:20230311T100000
DTEND;TZID=Europe/Brussels:20230311T100000
DTSTAMP:20230412T164532Z
URL:https://vertlaforme.be/events/esneux-la-roche-aux-faucons/
SUMMARY:Esneux : La Roche aux Faucons
DESCRIPTION:
ATTACH;FMTTYPE=image/jpeg:https://vertlaforme.be/wp-content/uploads/roche-
 aux-faucons.png
CATEGORIES:Marche facile à modérée,Marches
END:VEVENT
BEGIN:VTIMEZONE
TZID:Europe/Brussels
X-LIC-LOCATION:Europe/Brussels
BEGIN:STANDARD
DTSTART:20221030T020000
TZOFFSETFROM:+0200
TZOFFSETTO:+0100
TZNAME:CET
END:STANDARD
END:VTIMEZONE
END:VCALENDAR