BEGIN:VCALENDAR
VERSION:2.0
PRODID:-//wp-events-plugin.com//7.2.3.1//EN
TZID:Europe/Brussels
X-WR-TIMEZONE:Europe/Brussels
BEGIN:VEVENT
UID:1@vertlaforme.be
DTSTART;TZID=Europe/Brussels:20230429T143000
DTEND;TZID=Europe/Brussels:20230429T143000
DTSTAMP:20230412T093307Z
URL:https://vertlaforme.be/events/fete-du-printemps/
SUMMARY:Fête du printemps
DESCRIPTION:Balades\, Apéro\, Souper (buffet froid + tartes de Trancrémon
 t) - 18€
CATEGORIES:Autres activités
END:VEVENT
BEGIN:VTIMEZONE
TZID:Europe/Brussels
X-LIC-LOCATION:Europe/Brussels
BEGIN:DAYLIGHT
DTSTART:20230326T030000
TZOFFSETFROM:+0100
TZOFFSETTO:+0200
TZNAME:CEST
END:DAYLIGHT
END:VTIMEZONE
END:VCALENDAR