BEGIN:VCALENDAR
VERSION:2.0
PRODID:-//wp-events-plugin.com//7.2.3.1//EN
TZID:Europe/Brussels
X-WR-TIMEZONE:Europe/Brussels
BEGIN:VEVENT
UID:30@vertlaforme.be
DTSTART;TZID=Europe/Brussels:20230316T180000
DTEND;TZID=Europe/Brussels:20230316T180000
DTSTAMP:20230313T201058Z
URL:https://vertlaforme.be/events/heers-promenades-des-coquelicots/
SUMMARY:Heers - promenades des coquelicots
DESCRIPTION:Gilets fluos + lampes
ATTACH;FMTTYPE=image/jpeg:https://vertlaforme.be/wp-content/uploads/IMG_20
 230305_162305.jpg
CATEGORIES:Lucioles,Marches
END:VEVENT
BEGIN:VTIMEZONE
TZID:Europe/Brussels
X-LIC-LOCATION:Europe/Brussels
BEGIN:STANDARD
DTSTART:20221030T020000
TZOFFSETFROM:+0200
TZOFFSETTO:+0100
TZNAME:CET
END:STANDARD
END:VTIMEZONE
END:VCALENDAR