BEGIN:VCALENDAR
VERSION:2.0
PRODID:-//wp-events-plugin.com//7.2.3.1//EN
TZID:Europe/Brussels
X-WR-TIMEZONE:Europe/Brussels
BEGIN:VEVENT
UID:86@vertlaforme.be
DTSTART;TZID=Europe/Brussels:20230418T093000
DTEND;TZID=Europe/Brussels:20230418T093000
DTSTAMP:20230418T154414Z
URL:https://vertlaforme.be/events/la-reid-balade-la-reid-charmille/
SUMMARY:La Reid - Balade La Reid-Charmille
DESCRIPTION:
ATTACH;FMTTYPE=image/jpeg:https://vertlaforme.be/wp-content/uploads/La-Rei
 d-La-Charmille-2023-04-18.jpeg
CATEGORIES:Marche facile à modérée,Marches
END:VEVENT
BEGIN:VTIMEZONE
TZID:Europe/Brussels
X-LIC-LOCATION:Europe/Brussels
BEGIN:DAYLIGHT
DTSTART:20230326T030000
TZOFFSETFROM:+0100
TZOFFSETTO:+0200
TZNAME:CEST
END:DAYLIGHT
END:VTIMEZONE
END:VCALENDAR