BEGIN:VCALENDAR
VERSION:2.0
PRODID:-//wp-events-plugin.com//7.2.3.1//EN
TZID:Europe/Brussels
X-WR-TIMEZONE:Europe/Brussels
BEGIN:VEVENT
UID:127@vertlaforme.be
DTSTART;TZID=Europe/Brussels:20230528T100000
DTEND;TZID=Europe/Brussels:20230528T120000
DTSTAMP:20230524T113849Z
URL:https://vertlaforme.be/events/mache-du-dimanche/
SUMMARY:Marche du dimanche
DESCRIPTION:Itinéraire : Autoroute E42-A27\, sortie 12 PONT – LIGNEUVILL
 E. A la sortie d’autoroute\, tourner à gauche sur Refat en direction de
  LIGNEUVILLE. Au croisement\, prendre sur la gauche la N660 en direction d
 e LIGNEUVILLE. Suivre la N660 jusqu’au croisement avec la N62. Prendre 
 à gauche sur la N62 jusqu’à LIGNEUVILLE. A LIGNEUVILLE\, après l’H
 ôtel Saint-Hubert et juste avant le pont qui enjambe l’Amblève\, prend
 re la route sur la droite en direction de MONTENAU. Dans le village de MON
 TENAU\, suivre les flèches brunes « TOURIST INFO ».
ATTACH;FMTTYPE=image/jpeg:https://vertlaforme.be/wp-content/uploads/amel.j
 pg
CATEGORIES:Marches,Randonnée sportive
END:VEVENT
BEGIN:VTIMEZONE
TZID:Europe/Brussels
X-LIC-LOCATION:Europe/Brussels
BEGIN:DAYLIGHT
DTSTART:20230326T030000
TZOFFSETFROM:+0100
TZOFFSETTO:+0200
TZNAME:CEST
END:DAYLIGHT
END:VTIMEZONE
END:VCALENDAR