BEGIN:VCALENDAR
VERSION:2.0
PRODID:-//wp-events-plugin.com//7.2.3.1//EN
TZID:Europe/Brussels
X-WR-TIMEZONE:Europe/Brussels
BEGIN:VEVENT
UID:1151@vertlaforme.be
DTSTART;TZID=Europe/Brussels:20250925T180000
DTEND;TZID=Europe/Brussels:20250925T183000
DTSTAMP:20250922T120736Z
URL:https://vertlaforme.be/events/marche-des-lucioles-amay/
SUMMARY:Marche des Lucioles : Amay
DESCRIPTION:Prendre bouchons\, gilets fluos + lampes.\n\nLucioles :\nDistan
 ce : +/-  9.7 km\, .\npromenade D+220 ou D+180m à convenir\nGuide :Riqu
 ier.MATHIEU (0471.581.667)\n\nLucioles 'Douces':\nDistance : +/- 7.4 km\,
  .\nmontée sportive  au début\, : dénivelé +150m\n\nGuide : Murielle 
 Dupont (0484 188 158)
CATEGORIES:Marche facile à modérée,Marches
END:VEVENT
BEGIN:VTIMEZONE
TZID:Europe/Brussels
X-LIC-LOCATION:Europe/Brussels
BEGIN:DAYLIGHT
DTSTART:20250330T030000
TZOFFSETFROM:+0100
TZOFFSETTO:+0200
TZNAME:CEST
END:DAYLIGHT
END:VTIMEZONE
END:VCALENDAR