BEGIN:VCALENDAR
VERSION:2.0
PRODID:-//wp-events-plugin.com//7.2.3.1//EN
TZID:Europe/Brussels
X-WR-TIMEZONE:Europe/Brussels
BEGIN:VEVENT
UID:1167@vertlaforme.be
DTSTART;TZID=Europe/Brussels:20251009T180000
DTEND;TZID=Europe/Brussels:20251009T180000
DTSTAMP:20251006T083534Z
URL:https://vertlaforme.be/events/marche-des-lucioles-ans/
SUMMARY:Marche des Lucioles : Ans
DESCRIPTION:Découverte de la Fagne ansoise et des sources de la Légia\n\n
 Prendre fluo et lampes
CATEGORIES:Lucioles,Marches
END:VEVENT
BEGIN:VTIMEZONE
TZID:Europe/Brussels
X-LIC-LOCATION:Europe/Brussels
BEGIN:DAYLIGHT
DTSTART:20250330T030000
TZOFFSETFROM:+0100
TZOFFSETTO:+0200
TZNAME:CEST
END:DAYLIGHT
END:VTIMEZONE
END:VCALENDAR