BEGIN:VCALENDAR
VERSION:2.0
PRODID:-//wp-events-plugin.com//7.2.3.1//EN
TZID:Europe/Brussels
X-WR-TIMEZONE:Europe/Brussels
BEGIN:VEVENT
UID:325@vertlaforme.be
DTSTART;TZID=Europe/Brussels:20231130T180000
DTEND;TZID=Europe/Brussels:20231130T183000
DTSTAMP:20231127T114526Z
URL:https://vertlaforme.be/events/marche-des-lucioles-borlez/
SUMMARY:Marche des Lucioles : Borlez
DESCRIPTION:Distances :2 options\n- 7.1 km - guide: Murielle\n- 9.9 km\, - 
 guide: Riquier\nPromenades faciles\, pas de dénivelés
CATEGORIES:Lucioles,Marches
END:VEVENT
BEGIN:VTIMEZONE
TZID:Europe/Brussels
X-LIC-LOCATION:Europe/Brussels
BEGIN:STANDARD
DTSTART:20231029T020000
TZOFFSETFROM:+0200
TZOFFSETTO:+0100
TZNAME:CET
END:STANDARD
END:VTIMEZONE
END:VCALENDAR