BEGIN:VCALENDAR
VERSION:2.0
PRODID:-//wp-events-plugin.com//7.2.3.1//EN
TZID:Europe/Brussels
X-WR-TIMEZONE:Europe/Brussels
BEGIN:VEVENT
UID:376@vertlaforme.be
DTSTART;TZID=Europe/Brussels:20240118T180000
DTEND;TZID=Europe/Brussels:20240118T183000
DTSTAMP:20240115T143757Z
URL:https://vertlaforme.be/events/marche-des-lucioles-fexhe-le-haut-cloche
 r/
SUMMARY:Marche des Lucioles : Fexhe-le-Haut-Clocher
DESCRIPTION:Lucioles :\nDistance : +/- 9.8km\, .\npromenade facile D+55m - 
 chemins de remembrements secs devant les Whisky de Fexhe\nGuide : Riquier 
 MATHIEU (0471.581.667)\n\nLucioles Douces:\nDistance : +/- 7.4km\, . (ou 6
 km en fonction météo)\npromenade facile D+355m - chemins de remembrement
 s secs\nGuide : Murielle Dupont (0484 188 158)
CATEGORIES:Lucioles,Marches
END:VEVENT
BEGIN:VTIMEZONE
TZID:Europe/Brussels
X-LIC-LOCATION:Europe/Brussels
BEGIN:STANDARD
DTSTART:20231029T020000
TZOFFSETFROM:+0200
TZOFFSETTO:+0100
TZNAME:CET
END:STANDARD
END:VTIMEZONE
END:VCALENDAR