BEGIN:VCALENDAR
VERSION:2.0
PRODID:-//wp-events-plugin.com//7.2.3.1//EN
TZID:Europe/Brussels
X-WR-TIMEZONE:Europe/Brussels
BEGIN:VEVENT
UID:1180@vertlaforme.be
DTSTART;TZID=Europe/Brussels:20251016T180000
DTEND;TZID=Europe/Brussels:20251016T183000
DTSTAMP:20251013T130012Z
URL:https://vertlaforme.be/events/marche-des-lucioles-fumal-3/
SUMMARY:Marche des Lucioles : Fumal
DESCRIPTION:\nPrendre :   bouchons + gilets fluos + lampes.\nPour la co
 urte distance\, les lucioles accompagneront la marche de fin de formation 
 de Philippe Boulanger\n
CATEGORIES:Lucioles,Marches
END:VEVENT
BEGIN:VTIMEZONE
TZID:Europe/Brussels
X-LIC-LOCATION:Europe/Brussels
BEGIN:DAYLIGHT
DTSTART:20250330T030000
TZOFFSETFROM:+0100
TZOFFSETTO:+0200
TZNAME:CEST
END:DAYLIGHT
END:VTIMEZONE
END:VCALENDAR