BEGIN:VCALENDAR
VERSION:2.0
PRODID:-//wp-events-plugin.com//7.2.3.1//EN
TZID:Europe/Brussels
X-WR-TIMEZONE:Europe/Brussels
BEGIN:VEVENT
UID:252@vertlaforme.be
DTSTART;TZID=Europe/Brussels:20230928T180000
DTEND;TZID=Europe/Brussels:20230928T183000
DTSTAMP:20230924T162601Z
URL:https://vertlaforme.be/events/marche-des-lucioles-rutten/
SUMMARY:Marche des Lucioles : Rutten
DESCRIPTION:Promenade facile D+ 45m.\nPrendre gilets fluos + lampes.\nVaria
 nte 6.2 km\nGuide : Murielle Dupont (0484 188 158)
CATEGORIES:Lucioles,Marches
END:VEVENT
BEGIN:VTIMEZONE
TZID:Europe/Brussels
X-LIC-LOCATION:Europe/Brussels
BEGIN:DAYLIGHT
DTSTART:20230326T030000
TZOFFSETFROM:+0100
TZOFFSETTO:+0200
TZNAME:CEST
END:DAYLIGHT
END:VTIMEZONE
END:VCALENDAR