BEGIN:VCALENDAR
VERSION:2.0
PRODID:-//wp-events-plugin.com//7.2.3.1//EN
TZID:Europe/Brussels
X-WR-TIMEZONE:Europe/Brussels
BEGIN:VEVENT
UID:980@vertlaforme.be
DTSTART;TZID=Europe/Brussels:20250508T180000
DTEND;TZID=Europe/Brussels:20250508T183000
DTSTAMP:20250505T075121Z
URL:https://vertlaforme.be/events/marche-des-lucioles-solieres-et-ail-des-
 ours/
SUMMARY:Marche des Lucioles : Solières et ail des Ours
DESCRIPTION:Possibilité de profiter de la terrasse de la taverne Elysée-B
 eaufort après la marche.
CATEGORIES:Lucioles,Marches
END:VEVENT
BEGIN:VTIMEZONE
TZID:Europe/Brussels
X-LIC-LOCATION:Europe/Brussels
BEGIN:DAYLIGHT
DTSTART:20250330T030000
TZOFFSETFROM:+0100
TZOFFSETTO:+0200
TZNAME:CEST
END:DAYLIGHT
END:VTIMEZONE
END:VCALENDAR