BEGIN:VCALENDAR
VERSION:2.0
PRODID:-//wp-events-plugin.com//7.2.3.1//EN
TZID:Europe/Brussels
X-WR-TIMEZONE:Europe/Brussels
BEGIN:VEVENT
UID:452@vertlaforme.be
DTSTART;TZID=Europe/Brussels:20240314T180000
DTEND;TZID=Europe/Brussels:20240314T183000
DTSTAMP:20240311T090619Z
URL:https://vertlaforme.be/events/marche-des-lucioles-vaux-borset/
SUMMARY:Marche des Lucioles : Vaux-Borset
DESCRIPTION:Lucioles :\nDistance : +/- 10.4 ou 11.2km\, .\npromenade facile
  D+120m – chemins de remembrements secs\nGuide :Riquier.MATHIEU (0471.58
 1.667)\n\nLucioles Douces:\nDistance : +/- 6.5 km\, .\npromenade facile D+
 60m\nGuide : Murielle Dupont (0484 188 158)
CATEGORIES:Lucioles,Marches
END:VEVENT
BEGIN:VTIMEZONE
TZID:Europe/Brussels
X-LIC-LOCATION:Europe/Brussels
BEGIN:STANDARD
DTSTART:20231029T020000
TZOFFSETFROM:+0200
TZOFFSETTO:+0100
TZNAME:CET
END:STANDARD
END:VTIMEZONE
END:VCALENDAR