BEGIN:VCALENDAR
VERSION:2.0
PRODID:-//wp-events-plugin.com//7.2.3.1//EN
TZID:Europe/Brussels
X-WR-TIMEZONE:Europe/Brussels
BEGIN:VEVENT
UID:412@vertlaforme.be
DTSTART;TZID=Europe/Brussels:20240215T180000
DTEND;TZID=Europe/Brussels:20240215T183000
DTSTAMP:20240213T130155Z
URL:https://vertlaforme.be/events/marche-des-lucioles-vieux-waleffe/
SUMMARY:Marche des Lucioles : Vieux Waleffe
DESCRIPTION:Lucioles :\nDistance : +/- 10.2 km\, .(possib. réduire à 9.6)
 \npromenade + sportive : dénivelé + cumulé: + 305m\nGuide :Riquier.MATH
 IEU (0471.581.667)\n\nLucioles Douces:\nDistance : +/- 7.6 km\, .\npromena
 de facile D+120m - chemins de remembrements secs\nGuide : Murielle Dupont 
 (0484 188 158)
CATEGORIES:Lucioles,Marches
END:VEVENT
BEGIN:VTIMEZONE
TZID:Europe/Brussels
X-LIC-LOCATION:Europe/Brussels
BEGIN:STANDARD
DTSTART:20231029T020000
TZOFFSETFROM:+0200
TZOFFSETTO:+0100
TZNAME:CET
END:STANDARD
END:VTIMEZONE
END:VCALENDAR