BEGIN:VCALENDAR
VERSION:2.0
PRODID:-//wp-events-plugin.com//7.2.3.1//EN
TZID:Europe/Brussels
X-WR-TIMEZONE:Europe/Brussels
BEGIN:VEVENT
UID:251@vertlaforme.be
DTSTART;TZID=Europe/Brussels:20230928T100000
DTEND;TZID=Europe/Brussels:20230928T100000
DTSTAMP:20230923T170325Z
URL:https://vertlaforme.be/events/marche-douce-du-jeudi-matin-braibant/
SUMMARY:Marche douce du jeudi matin : Braibant
DESCRIPTION:Belle balade entre campagne et bois .\nAu début 1 montée sur 
 + ou - 750 mètres.( 6/7%).\nPendant le parcours qques unes mais à faible
  dénivelé (3/4%).\nPoints d'intérêt : Le bocq (rivière).\nFourmis(art
 ).\nChâteau de Halloy\, étangs
ATTACH;FMTTYPE=image/jpeg:https://vertlaforme.be/wp-content/uploads/Ciney-
 Braibant-rue-de-stee.jpg
CATEGORIES:Marche douce,Marches
END:VEVENT
BEGIN:VTIMEZONE
TZID:Europe/Brussels
X-LIC-LOCATION:Europe/Brussels
BEGIN:DAYLIGHT
DTSTART:20230326T030000
TZOFFSETFROM:+0100
TZOFFSETTO:+0200
TZNAME:CEST
END:DAYLIGHT
END:VTIMEZONE
END:VCALENDAR