BEGIN:VCALENDAR
VERSION:2.0
PRODID:-//wp-events-plugin.com//7.2.3.1//EN
TZID:Europe/Brussels
X-WR-TIMEZONE:Europe/Brussels
BEGIN:VEVENT
UID:269@vertlaforme.be
DTSTART;TZID=Europe/Brussels:20231019T100000
DTEND;TZID=Europe/Brussels:20231019T103000
DTSTAMP:20231012T163701Z
URL:https://vertlaforme.be/events/marche-douce-du-jeudi-matin-rotheux-rimi
 eres/
SUMMARY:Marche douce du jeudi matin : Rotheux-Rimières
DESCRIPTION:Balade majoritairement dans les bois entrecoupé de petits hame
 aux .\n\n4 montées avec faible dénivelé (4/5%).\n1 descente avec pierre
 s sur les quelques premiers mètres. Après facile.\n-château de Sottrez 
 et ses vignes.\n-chapelle de Sottrez.\n– bois\, rivière\, campagne.
CATEGORIES:Marche douce,Marches
END:VEVENT
BEGIN:VTIMEZONE
TZID:Europe/Brussels
X-LIC-LOCATION:Europe/Brussels
BEGIN:DAYLIGHT
DTSTART:20230326T030000
TZOFFSETFROM:+0100
TZOFFSETTO:+0200
TZNAME:CEST
END:DAYLIGHT
END:VTIMEZONE
END:VCALENDAR