BEGIN:VCALENDAR
VERSION:2.0
PRODID:-//wp-events-plugin.com//7.2.3.1//EN
TZID:Europe/Brussels
X-WR-TIMEZONE:Europe/Brussels
BEGIN:VEVENT
UID:341@vertlaforme.be
DTSTART;TZID=Europe/Brussels:20231214T100000
DTEND;TZID=Europe/Brussels:20231214T103000
DTSTAMP:20231208T201141Z
URL:https://vertlaforme.be/events/marche-douce-du-jeudi-ouffet/
SUMMARY:Marche douce du jeudi : Ouffet
DESCRIPTION:Points d'intérêt :\n- tour de la cour de justice.\n- église 
 Saint Médard.\n- 3 châteaux.\n- sentier panoramique.\n
CATEGORIES:Marche facile à modérée,Marches
END:VEVENT
BEGIN:VTIMEZONE
TZID:Europe/Brussels
X-LIC-LOCATION:Europe/Brussels
BEGIN:STANDARD
DTSTART:20231029T020000
TZOFFSETFROM:+0200
TZOFFSETTO:+0100
TZNAME:CET
END:STANDARD
END:VTIMEZONE
END:VCALENDAR