BEGIN:VCALENDAR
VERSION:2.0
PRODID:-//wp-events-plugin.com//7.2.3.1//EN
TZID:Europe/Brussels
X-WR-TIMEZONE:Europe/Brussels
BEGIN:VEVENT
UID:70@vertlaforme.be
DTSTART;TZID=Europe/Brussels:20230101T020000
DTEND;TZID=Europe/Brussels:20230101T020000
DTSTAMP:20230501T191102Z
URL:https://vertlaforme.be/events/marche-douce/
SUMMARY:Marches douces
DESCRIPTION:La distance est de 4 à 6 km.\n\nSans difficulté.\n\nL'allure 
 douce est de 3-4 km/h mais toujours adaptée au groupe.
CATEGORIES:Marche douce,Marches
END:VEVENT
BEGIN:VTIMEZONE
TZID:Europe/Brussels
X-LIC-LOCATION:Europe/Brussels
BEGIN:STANDARD
DTSTART:20221030T020000
TZOFFSETFROM:+0200
TZOFFSETTO:+0100
TZNAME:CET
END:STANDARD
END:VTIMEZONE
END:VCALENDAR