BEGIN:VCALENDAR
VERSION:2.0
PRODID:-//wp-events-plugin.com//7.2.3.1//EN
TZID:Europe/Brussels
X-WR-TIMEZONE:Europe/Brussels
BEGIN:VEVENT
UID:461@vertlaforme.be
DTSTART;TZID=Europe/Brussels:20240317T133000
DTEND;TZID=Europe/Brussels:20240317T140000
DTSTAMP:20240315T064843Z
URL:https://vertlaforme.be/events/marche-du-dimanche-apres-midi-fouron-sai
 nt-martin/
SUMMARY:Marche du dimanche après-midi : Fouron Saint Martin
DESCRIPTION:
CATEGORIES:Marche moyenne,Marches
END:VEVENT
BEGIN:VTIMEZONE
TZID:Europe/Brussels
X-LIC-LOCATION:Europe/Brussels
BEGIN:STANDARD
DTSTART:20231029T020000
TZOFFSETFROM:+0200
TZOFFSETTO:+0100
TZNAME:CET
END:STANDARD
END:VTIMEZONE
END:VCALENDAR