BEGIN:VCALENDAR
VERSION:2.0
PRODID:-//wp-events-plugin.com//7.2.3.1//EN
TZID:Europe/Brussels
X-WR-TIMEZONE:Europe/Brussels
BEGIN:VEVENT
UID:389@vertlaforme.be
DTSTART;TZID=Europe/Brussels:20240128T130000
DTEND;TZID=Europe/Brussels:20240128T133000
DTSTAMP:20240125T192407Z
URL:https://vertlaforme.be/events/marche-du-dimanche-apres-midi-herve-2/
SUMMARY:Marche  du dimanche après-midi : Herve
DESCRIPTION:
CATEGORIES:Marche facile à modérée,Marches
END:VEVENT
BEGIN:VTIMEZONE
TZID:Europe/Brussels
X-LIC-LOCATION:Europe/Brussels
BEGIN:STANDARD
DTSTART:20231029T020000
TZOFFSETFROM:+0200
TZOFFSETTO:+0100
TZNAME:CET
END:STANDARD
END:VTIMEZONE
END:VCALENDAR