BEGIN:VCALENDAR
VERSION:2.0
PRODID:-//wp-events-plugin.com//7.2.3.1//EN
TZID:Europe/Brussels
X-WR-TIMEZONE:Europe/Brussels
BEGIN:VEVENT
UID:359@vertlaforme.be
DTSTART;TZID=Europe/Brussels:20240107T100000
DTEND;TZID=Europe/Brussels:20240107T123000
DTSTAMP:20240104T105705Z
URL:https://vertlaforme.be/events/marche-du-dimanche-matin-a-tilff/
SUMMARY:Marche du Dimanche matin a Tilff
DESCRIPTION:Balade de reprise le long de l’ Ourthe .\nPour ce faire plais
 ir …
ATTACH;FMTTYPE=image/jpeg:https://vertlaforme.be/wp-content/uploads/Tilff-
 musee-de-l-abeille.png
CATEGORIES:Marche moyenne,Marches
END:VEVENT
BEGIN:VTIMEZONE
TZID:Europe/Brussels
X-LIC-LOCATION:Europe/Brussels
BEGIN:STANDARD
DTSTART:20231029T020000
TZOFFSETFROM:+0200
TZOFFSETTO:+0100
TZNAME:CET
END:STANDARD
END:VTIMEZONE
END:VCALENDAR