BEGIN:VCALENDAR
VERSION:2.0
PRODID:-//wp-events-plugin.com//7.2.3.1//EN
TZID:Europe/Brussels
X-WR-TIMEZONE:Europe/Brussels
BEGIN:VEVENT
UID:1141@vertlaforme.be
DTSTART;TZID=Europe/Brussels:20250921T100000
DTEND;TZID=Europe/Brussels:20250921T103000
DTSTAMP:20250921T064342Z
URL:https://vertlaforme.be/events/marche-du-dimanche-matin-kanne-2/
SUMMARY:Marche du dimanche matin : Kanne   !!!!! Annulée !!!!!!!
DESCRIPTION:Jolie balade entre la Belgique et les Pays-Bas passant par la c
 arrière de la montagne Saint-Pierre (arrêt au point de vue D'n Observant
 )\n\nBalade passant entre les bois\, les champs\, le site de la carrière 
 et prairies\n\nBalade 90% bois et prairie
CATEGORIES:Marche facile à modérée,Marches
END:VEVENT
BEGIN:VTIMEZONE
TZID:Europe/Brussels
X-LIC-LOCATION:Europe/Brussels
BEGIN:DAYLIGHT
DTSTART:20250330T030000
TZOFFSETFROM:+0100
TZOFFSETTO:+0200
TZNAME:CEST
END:DAYLIGHT
END:VTIMEZONE
END:VCALENDAR