BEGIN:VCALENDAR
VERSION:2.0
PRODID:-//wp-events-plugin.com//7.2.3.1//EN
TZID:Europe/Brussels
X-WR-TIMEZONE:Europe/Brussels
BEGIN:VEVENT
UID:237@vertlaforme.be
DTSTART;TZID=Europe/Brussels:20231029T100000
DTEND;TZID=Europe/Brussels:20231029T103000
DTSTAMP:20230924T163643Z
URL:https://vertlaforme.be/events/marche-du-dimanche-matin-schaltin/
SUMMARY:Marche du dimanche matin : Lince
DESCRIPTION:Petits hameaux\, campagne\, beaucoup de bois.\n1 descente un pe
 ut technique + 2 courts endroits idem (10 mètres)\nLe reste facile pas de
  longue montée.\nParking rue abbé Demarteau.\nDerrière l' église.\nPre
 ndre la petite rue qui monte le long de celle-ci en face du numéro 1.
CATEGORIES:Marche facile à modérée,Marches
END:VEVENT
BEGIN:VTIMEZONE
TZID:Europe/Brussels
X-LIC-LOCATION:Europe/Brussels
BEGIN:STANDARD
DTSTART:20231029T020000
TZOFFSETFROM:+0200
TZOFFSETTO:+0100
TZNAME:CET
END:STANDARD
END:VTIMEZONE
END:VCALENDAR