BEGIN:VCALENDAR
VERSION:2.0
PRODID:-//wp-events-plugin.com//7.2.3.1//EN
TZID:Europe/Brussels
X-WR-TIMEZONE:Europe/Brussels
BEGIN:VEVENT
UID:195@vertlaforme.be
DTSTART;TZID=Europe/Brussels:20230803T134500
DTEND;TZID=Europe/Brussels:20230803T144500
DTSTAMP:20230731T150629Z
URL:https://vertlaforme.be/events/marche-du-jeudi-5/
SUMMARY:Marche du jeudi
DESCRIPTION:Possibilité de manger après la marche à la brasserie (réser
 vation conseillée auprès du guide).
CATEGORIES:Marches,Randonnée sportive
END:VEVENT
BEGIN:VTIMEZONE
TZID:Europe/Brussels
X-LIC-LOCATION:Europe/Brussels
BEGIN:DAYLIGHT
DTSTART:20230326T030000
TZOFFSETFROM:+0100
TZOFFSETTO:+0200
TZNAME:CEST
END:DAYLIGHT
END:VTIMEZONE
END:VCALENDAR