BEGIN:VCALENDAR
VERSION:2.0
PRODID:-//wp-events-plugin.com//7.2.3.1//EN
TZID:Europe/Brussels
X-WR-TIMEZONE:Europe/Brussels
BEGIN:VEVENT
UID:283@vertlaforme.be
DTSTART;TZID=Europe/Brussels:20231026T134500
DTEND;TZID=Europe/Brussels:20231026T141500
DTSTAMP:20231025T092622Z
URL:https://vertlaforme.be/events/marche-du-jeudi-apres-midi-fraipont/
SUMMARY:Marche du jeudi après-midi: Fraipont
DESCRIPTION:14\,8 kms pouvant être ramenés à 10\,5 en cas de météo dé
 favorable
ATTACH;FMTTYPE=image/jpeg:https://vertlaforme.be/wp-content/uploads/fraipo
 nt.jpg
CATEGORIES:Marches,Randonnée sportive
END:VEVENT
BEGIN:VTIMEZONE
TZID:Europe/Brussels
X-LIC-LOCATION:Europe/Brussels
BEGIN:DAYLIGHT
DTSTART:20230326T030000
TZOFFSETFROM:+0100
TZOFFSETTO:+0200
TZNAME:CEST
END:DAYLIGHT
END:VTIMEZONE
END:VCALENDAR