BEGIN:VCALENDAR
VERSION:2.0
PRODID:-//wp-events-plugin.com//7.2.3.1//EN
TZID:Europe/Brussels
X-WR-TIMEZONE:Europe/Brussels
BEGIN:VEVENT
UID:413@vertlaforme.be
DTSTART;TZID=Europe/Brussels:20240215T130000
DTEND;TZID=Europe/Brussels:20240215T133000
DTSTAMP:20240213T130337Z
URL:https://vertlaforme.be/events/marche-du-jeudi-apres-midi-herve-2/
SUMMARY:Marche du jeudi après-midi : Herve
DESCRIPTION:
ATTACH;FMTTYPE=image/jpeg:https://vertlaforme.be/wp-content/uploads/Herve2
 .jpg
CATEGORIES:Marches,Randonnée sportive
END:VEVENT
BEGIN:VTIMEZONE
TZID:Europe/Brussels
X-LIC-LOCATION:Europe/Brussels
BEGIN:STANDARD
DTSTART:20231029T020000
TZOFFSETFROM:+0200
TZOFFSETTO:+0100
TZNAME:CET
END:STANDARD
END:VTIMEZONE
END:VCALENDAR