BEGIN:VCALENDAR
VERSION:2.0
PRODID:-//wp-events-plugin.com//7.2.3.1//EN
TZID:Europe/Brussels
X-WR-TIMEZONE:Europe/Brussels
BEGIN:VEVENT
UID:1172@vertlaforme.be
DTSTART;TZID=Europe/Brussels:20251009T134500
DTEND;TZID=Europe/Brussels:20251009T141500
DTSTAMP:20251007T131556Z
URL:https://vertlaforme.be/events/marche-du-jeudi-apres-midi-la-reid/
SUMMARY:Marche du jeudi après-midi : La Reid
DESCRIPTION:
CATEGORIES:Marches,Randonnée sportive
END:VEVENT
BEGIN:VTIMEZONE
TZID:Europe/Brussels
X-LIC-LOCATION:Europe/Brussels
BEGIN:DAYLIGHT
DTSTART:20250330T030000
TZOFFSETFROM:+0100
TZOFFSETTO:+0200
TZNAME:CEST
END:DAYLIGHT
END:VTIMEZONE
END:VCALENDAR