BEGIN:VCALENDAR
VERSION:2.0
PRODID:-//wp-events-plugin.com//7.2.3.1//EN
TZID:Europe/Brussels
X-WR-TIMEZONE:Europe/Brussels
BEGIN:VEVENT
UID:1148@vertlaforme.be
DTSTART;TZID=Europe/Brussels:20250925T100000
DTEND;TZID=Europe/Brussels:20250925T103000
DTSTAMP:20250920T165423Z
URL:https://vertlaforme.be/events/marche-du-jeudi-matin-louveigne/
SUMMARY:Marche du jeudi matin : Louveigne
DESCRIPTION:Chantoir de Béronri\, balade paysagère dans la nature .
CATEGORIES:Marche moyenne,Marches
END:VEVENT
BEGIN:VTIMEZONE
TZID:Europe/Brussels
X-LIC-LOCATION:Europe/Brussels
BEGIN:DAYLIGHT
DTSTART:20250330T030000
TZOFFSETFROM:+0100
TZOFFSETTO:+0200
TZNAME:CEST
END:DAYLIGHT
END:VTIMEZONE
END:VCALENDAR