BEGIN:VCALENDAR
VERSION:2.0
PRODID:-//wp-events-plugin.com//7.2.3.1//EN
TZID:Europe/Brussels
X-WR-TIMEZONE:Europe/Brussels
BEGIN:VEVENT
UID:330@vertlaforme.be
DTSTART;TZID=Europe/Brussels:20231207T100000
DTEND;TZID=Europe/Brussels:20231207T103000
DTSTAMP:20231206T175025Z
URL:https://vertlaforme.be/events/marche-du-jeudi-matin-scrytinlot/
SUMMARY:Marche du jeudi matin : Scry(Tinlot)
DESCRIPTION:Une belle descente.\nUn peu de montée\, mais sans grand déniv
 elé.\nBoueux voir très Boueux par endroit.\nGuêtres et bonnes chaussure
 s souhaitable.\nPoints d'intérêt :\n- 2 moulins à aube\, 1rénove mais 
 sans roue. L' autre en l'état mais avec roue.\n- Petit endroit zen pour u
 ne halte avec ND de banneux.
ATTACH;FMTTYPE=image/jpeg:https://vertlaforme.be/wp-content/uploads/scry.j
 pg
CATEGORIES:Marche facile à modérée,Marches
END:VEVENT
BEGIN:VTIMEZONE
TZID:Europe/Brussels
X-LIC-LOCATION:Europe/Brussels
BEGIN:STANDARD
DTSTART:20231029T020000
TZOFFSETFROM:+0200
TZOFFSETTO:+0100
TZNAME:CET
END:STANDARD
END:VTIMEZONE
END:VCALENDAR