BEGIN:VCALENDAR
VERSION:2.0
PRODID:-//wp-events-plugin.com//7.2.3.1//EN
TZID:Europe/Brussels
X-WR-TIMEZONE:Europe/Brussels
BEGIN:VEVENT
UID:276@vertlaforme.be
DTSTART;TZID=Europe/Brussels:20231021T100000
DTEND;TZID=Europe/Brussels:20231021T103000
DTSTAMP:20231018T120014Z
URL:https://vertlaforme.be/events/marche-du-samedi-borgloon/
SUMMARY:Marche du samedi : Borgloon
DESCRIPTION:lien google map: https://maps.app.goo.gl/CFoBXWJrqzXqrp3e9
CATEGORIES:Marche facile à modérée,Marches
END:VEVENT
BEGIN:VTIMEZONE
TZID:Europe/Brussels
X-LIC-LOCATION:Europe/Brussels
BEGIN:DAYLIGHT
DTSTART:20230326T030000
TZOFFSETFROM:+0100
TZOFFSETTO:+0200
TZNAME:CEST
END:DAYLIGHT
END:VTIMEZONE
END:VCALENDAR