BEGIN:VCALENDAR
VERSION:2.0
PRODID:-//wp-events-plugin.com//7.2.3.1//EN
TZID:Europe/Brussels
X-WR-TIMEZONE:Europe/Brussels
BEGIN:VEVENT
UID:220@vertlaforme.be
DTSTART;TZID=Europe/Brussels:20230826T100000
DTEND;TZID=Europe/Brussels:20230826T103000
DTSTAMP:20230824T160029Z
URL:https://vertlaforme.be/events/marche-du-samedi-matin-2/
SUMMARY:Marche du samedi matin
DESCRIPTION:
ATTACH;FMTTYPE=image/jpeg:https://vertlaforme.be/wp-content/uploads/wonck-
 1.jpg
CATEGORIES:Marche facile à modérée,Marches
END:VEVENT
BEGIN:VTIMEZONE
TZID:Europe/Brussels
X-LIC-LOCATION:Europe/Brussels
BEGIN:DAYLIGHT
DTSTART:20230326T030000
TZOFFSETFROM:+0100
TZOFFSETTO:+0200
TZNAME:CEST
END:DAYLIGHT
END:VTIMEZONE
END:VCALENDAR