BEGIN:VCALENDAR
VERSION:2.0
PRODID:-//wp-events-plugin.com//7.2.3.1//EN
TZID:Europe/Brussels
X-WR-TIMEZONE:Europe/Brussels
BEGIN:VEVENT
UID:435@vertlaforme.be
DTSTART;TZID=Europe/Brussels:20240302T100000
DTEND;TZID=Europe/Brussels:20240302T103000
DTSTAMP:20240229T192333Z
URL:https://vertlaforme.be/events/marche-du-samedi-matin-a-banneux/
SUMMARY:Marche du samedi matin : Banneux
DESCRIPTION:Marche terrains variés +/- 9.5 km \, D+ +/- 200m .\n\nPas de d
 ifficulte particuliére ...n' oubliez pas vos guetes.
ATTACH;FMTTYPE=image/jpeg:https://vertlaforme.be/wp-content/uploads/Screen
 shot_20240228_203209_Maps.jpg
CATEGORIES:Marche moyenne,Marches
END:VEVENT
BEGIN:VTIMEZONE
TZID:Europe/Brussels
X-LIC-LOCATION:Europe/Brussels
BEGIN:STANDARD
DTSTART:20231029T020000
TZOFFSETFROM:+0200
TZOFFSETTO:+0100
TZNAME:CET
END:STANDARD
END:VTIMEZONE
END:VCALENDAR