BEGIN:VCALENDAR
VERSION:2.0
PRODID:-//wp-events-plugin.com//7.2.3.1//EN
TZID:Europe/Brussels
X-WR-TIMEZONE:Europe/Brussels
BEGIN:VEVENT
UID:1163@vertlaforme.be
DTSTART;TZID=Europe/Brussels:20251004T100000
DTEND;TZID=Europe/Brussels:20251004T103000
DTSTAMP:20251003T073809Z
URL:https://vertlaforme.be/events/marche-du-samedi-matin-warfaazspa/
SUMMARY:Marche du samedi matin : Warfaaz(Spa)
DESCRIPTION:Boucle à travers bois\, chemins et sentiers\, ainsi qu'un peu 
 d'asphalte.
CATEGORIES:Marche moyenne,Marches
END:VEVENT
BEGIN:VTIMEZONE
TZID:Europe/Brussels
X-LIC-LOCATION:Europe/Brussels
BEGIN:DAYLIGHT
DTSTART:20250330T030000
TZOFFSETFROM:+0100
TZOFFSETTO:+0200
TZNAME:CEST
END:DAYLIGHT
END:VTIMEZONE
END:VCALENDAR