BEGIN:VCALENDAR
VERSION:2.0
PRODID:-//wp-events-plugin.com//7.2.3.1//EN
TZID:Europe/Brussels
X-WR-TIMEZONE:Europe/Brussels
BEGIN:VEVENT
UID:73@vertlaforme.be
DTSTART;TZID=Europe/Brussels:20230101T060000
DTEND;TZID=Europe/Brussels:20230101T060000
DTSTAMP:20230424T104307Z
URL:https://vertlaforme.be/events/marche-moderee-a-soutenue/
SUMMARY:Randonnées sportives
DESCRIPTION:La distance dépasse 12km.\n\nL'allure soutenue est de 5-6 km/h
CATEGORIES:Marches,Randonnée sportive
END:VEVENT
BEGIN:VTIMEZONE
TZID:Europe/Brussels
X-LIC-LOCATION:Europe/Brussels
BEGIN:STANDARD
DTSTART:20221030T020000
TZOFFSETFROM:+0200
TZOFFSETTO:+0100
TZNAME:CET
END:STANDARD
END:VTIMEZONE
END:VCALENDAR