BEGIN:VCALENDAR
VERSION:2.0
PRODID:-//wp-events-plugin.com//7.2.3.1//EN
TZID:Europe/Brussels
X-WR-TIMEZONE:Europe/Brussels
BEGIN:VEVENT
UID:206@vertlaforme.be
DTSTART;TZID=Europe/Brussels:20230813T100000
DTEND;TZID=Europe/Brussels:20230813T110000
DTSTAMP:20230811T060530Z
URL:https://vertlaforme.be/events/marche-sportive-du-dimanche-la-journee/
SUMMARY:Marche sportive du dimanche la journée
DESCRIPTION:MALMEDY (4960) et ses crêtes (ERMITAGE ST-ANTOINE\, BERNISTER\
 , EAU ROUGE\, MOUPA\, FAGNE DU FRAINEU\, BOLTEFA\, VALLEE DU TRÔS MARET\,
  RESERVOIR DE BEVERCE\, CALVAIRE\nDivers :\n1) chaussures de marche obliga
 toires (chemins accidentés)\n2) Bâtons de marche nordique avec bouchons\
 n3) Prévoir un pique-nique et de quoi pouvoir s’asseoir sur le sol.\n\n
 Attention : prévoir une marge de sécurité pour la durée du trajet (tra
 vaux sur l’autoroute et à l’entrée de Malmedy + festival de musique 
 VIBRATIONS à Malmedy). Itinéraire alternatif via E40-A3\, sortie EUPEN (
 direction BARAQUE MICHEL – au MONT-RIGI\, prendre la N68 vers MALMEDY).
ATTACH;FMTTYPE=image/jpeg:https://vertlaforme.be/wp-content/uploads/malmed
 y.jpg
CATEGORIES:Marches,Randonnée sportive
END:VEVENT
BEGIN:VTIMEZONE
TZID:Europe/Brussels
X-LIC-LOCATION:Europe/Brussels
BEGIN:DAYLIGHT
DTSTART:20230326T030000
TZOFFSETFROM:+0100
TZOFFSETTO:+0200
TZNAME:CEST
END:DAYLIGHT
END:VTIMEZONE
END:VCALENDAR