BEGIN:VCALENDAR
VERSION:2.0
PRODID:-//wp-events-plugin.com//7.2.3.1//EN
TZID:Europe/Brussels
X-WR-TIMEZONE:Europe/Brussels
BEGIN:VEVENT
UID:610@vertlaforme.be
DTSTART;TZID=Europe/Brussels:20240725T133000
DTEND;TZID=Europe/Brussels:20240725T140000
DTSTAMP:20240722T131425Z
URL:https://vertlaforme.be/events/marche-sportive-du-jeudi-apres-midi-tros
 -marets/
SUMMARY:Marche sportive du jeudi après-midi : Trôs-Marets
DESCRIPTION:
ATTACH;FMTTYPE=image/jpeg:https://vertlaforme.be/wp-content/uploads/Route-
 ancienne-barriere-carrefour-N68.jpg
CATEGORIES:Marches,Randonnée sportive
END:VEVENT
BEGIN:VTIMEZONE
TZID:Europe/Brussels
X-LIC-LOCATION:Europe/Brussels
BEGIN:DAYLIGHT
DTSTART:20240331T030000
TZOFFSETFROM:+0100
TZOFFSETTO:+0200
TZNAME:CEST
END:DAYLIGHT
END:VTIMEZONE
END:VCALENDAR