BEGIN:VCALENDAR
VERSION:2.0
PRODID:-//wp-events-plugin.com//7.2.3.1//EN
TZID:Europe/Brussels
X-WR-TIMEZONE:Europe/Brussels
BEGIN:VEVENT
UID:423@vertlaforme.be
DTSTART;TZID=Europe/Brussels:20240227T100000
DTEND;TZID=Europe/Brussels:20240227T113000
DTSTAMP:20240219T102624Z
URL:https://vertlaforme.be/events/marche-tranquille-du-mardi-angleur-2/
SUMMARY:Marche tranquille du mardi : Angleur
DESCRIPTION:Marche entre 3 et 5km sur terrain plat à une allure adaptée p
 our les personnes ayant une mobilité réduite (convalescence\, handicap l
 éger\, maladie\, condition physique à reconstruire\, âge\, …).\nL’a
 llure de cette marche sera adaptée au rythme du participant ayant le plus
  de difficulté et le nombre d’arrêts y sera assez important si nécess
 aire.\nAmbiance bienveillante.
CATEGORIES:Marche tranquille,Marches
END:VEVENT
BEGIN:VTIMEZONE
TZID:Europe/Brussels
X-LIC-LOCATION:Europe/Brussels
BEGIN:STANDARD
DTSTART:20231029T020000
TZOFFSETFROM:+0200
TZOFFSETTO:+0100
TZNAME:CET
END:STANDARD
END:VTIMEZONE
END:VCALENDAR