BEGIN:VCALENDAR
VERSION:2.0
PRODID:-//wp-events-plugin.com//7.2.3.1//EN
TZID:Europe/Brussels
X-WR-TIMEZONE:Europe/Brussels
BEGIN:VEVENT
UID:395@vertlaforme.be
DTSTART;TZID=Europe/Brussels:20240201T180000
DTEND;TZID=Europe/Brussels:20240201T183000
DTSTAMP:20240131T155757Z
URL:https://vertlaforme.be/events/marches-des-lucioles-lantremange/
SUMMARY:Marches des lucioles : Lantremange
DESCRIPTION:Lucioles :\nDistance : +/- 9.2 km\, .\npromenade facile D+55m -
  chemins de remembrements secs\nGuide :Riquier.MATHIEU (0471.581.667)\n\nL
 ucioles Douces:\nDistance : +/- 7.1km\, .\npromenade facile\nGuide : Murie
 lle Dupont (0484 188 158)
CATEGORIES:Lucioles,Marches
END:VEVENT
BEGIN:VTIMEZONE
TZID:Europe/Brussels
X-LIC-LOCATION:Europe/Brussels
BEGIN:STANDARD
DTSTART:20231029T020000
TZOFFSETFROM:+0200
TZOFFSETTO:+0100
TZNAME:CET
END:STANDARD
END:VTIMEZONE
END:VCALENDAR