BEGIN:VCALENDAR
VERSION:2.0
PRODID:-//wp-events-plugin.com//7.2.3.1//EN
TZID:Europe/Brussels
X-WR-TIMEZONE:Europe/Brussels
BEGIN:VEVENT
UID:43@vertlaforme.be
DTSTART;TZID=Europe/Brussels:20230415T100000
DTEND;TZID=Europe/Brussels:20230415T100000
DTSTAMP:20230414T094043Z
URL:https://vertlaforme.be/events/nerem-reserve-naturelle-de-kevie/
SUMMARY:Nerem : Réserve naturelle de Kevie
DESCRIPTION:Possibilité de prendre un verre à l'arrivée
ATTACH;FMTTYPE=image/jpeg:https://vertlaforme.be/wp-content/uploads/Nerem-
 rotated.jpg
CATEGORIES:Marche facile à modérée,Marches
END:VEVENT
BEGIN:VTIMEZONE
TZID:Europe/Brussels
X-LIC-LOCATION:Europe/Brussels
BEGIN:DAYLIGHT
DTSTART:20230326T030000
TZOFFSETFROM:+0100
TZOFFSETTO:+0200
TZNAME:CEST
END:DAYLIGHT
END:VTIMEZONE
END:VCALENDAR